BEGIN:VCALENDAR
VERSION:2.0
PRODID:-//eventon.com NONSGML v1.0//EN
CALSCALE:GREGORIAN
METHOD:PUBLISH
BEGIN:VEVENT
UID:69ea8216c3c7f
DTSTAMP:20260423T203326Z
DTSTART:20190426T180000Z
DTEND:20190426T193000Z
LOCATION:
SUMMARY:Bő szekund | Bősze Ádám második zenei stand up-ja
DESCRIPTION:A #szeretnekahallgatók című stand up sikere után – az els
 ő show-t Debrecenben\,  Szegeden\,  Kőszegen\,  Pécsett\,  Miskolcon\,  
 Sopronban\,  Székesfehérváron\,  Budapesten és Kaposváron láthatta a 
 közönség. 2019-ben útjára indul a második\,  melynek címe Bő szekun
 d. A tartalom teljesen új\,  a formátum viszont nem változik. 1 óra 20 
 perces\,  a szó szoros értelmében[..]\nhttps://momkult.hu/events/bo-szek
 und-bosze-adam-masodik-zenei-stand-up-ja/
URL:https://momkult.hu/events/bo-szekund-bosze-adam-masodik-zenei-stand-up-ja/
END:VEVENT
END:VCALENDAR