BEGIN:VCALENDAR
VERSION:2.0
PRODID:-//eventon.com NONSGML v1.0//EN
CALSCALE:GREGORIAN
METHOD:PUBLISH
BEGIN:VEVENT
UID:69ea94e9d3651
DTSTAMP:20260423T215345Z
DTSTART:20190414T180000Z
DTEND:20190414T193000Z
LOCATION:
SUMMARY:Sound of Silence | Horgas Eszter és Falusi Mariann Simon & Garfunkel estje
DESCRIPTION:Horgas Eszter és Falusi Mariann Simon &amp; Garfunkel világá
 ba kalauzolja a közönséget. A Class Jazz Band kíséretében szólaltatj
 ák meg a híres amerikai páros legismertebb dalait a MOMKult színpadán.
 \nhttps://momkult.hu/events/sound-of-silence-horgas-eszter-es-falusi-marian
 n-simon-garfunkel-estje/
URL:https://momkult.hu/events/sound-of-silence-horgas-eszter-es-falusi-mariann-simon-garfunkel-estje/
END:VEVENT
END:VCALENDAR