BEGIN:VCALENDAR
VERSION:2.0
PRODID:-//eventon.com NONSGML v1.0//EN
CALSCALE:GREGORIAN
METHOD:PUBLISH
BEGIN:VEVENT
UID:69eaf5a1b8bdc
DTSTAMP:20260424T044625Z
DTSTART:20190210T103000Z
DTEND:20190210T111500Z
LOCATION:
SUMMARY:A manó aranybaltája
DESCRIPTION:Klasszikus bábok\,  klasszikus mesék. Domi bábszínháza\nht
 tps://momkult.hu/events/a-mano-aranybaltaja-domi-babszinhaza/
URL:https://momkult.hu/events/a-mano-aranybaltaja-domi-babszinhaza/
END:VEVENT
END:VCALENDAR