BEGIN:VCALENDAR
VERSION:2.0
PRODID:-//eventon.com NONSGML v1.0//EN
CALSCALE:GREGORIAN
METHOD:PUBLISH
BEGIN:VEVENT
UID:69eb25c95d73c
DTSTAMP:20260424T081153Z
DTSTART:20190116T180000Z
DTEND:20190116T193000Z
LOCATION:
SUMMARY:Hitel-est
DESCRIPTION:\nhttps://momkult.hu/events/hitel-est-2/
URL:https://momkult.hu/events/hitel-est-2/
END:VEVENT
END:VCALENDAR