BEGIN:VCALENDAR
VERSION:2.0
PRODID:-//eventon.com NONSGML v1.0//EN
CALSCALE:GREGORIAN
METHOD:PUBLISH
BEGIN:VEVENT
UID:69eb0f5d818b6
DTSTAMP:20260424T063613Z
DTSTART:20190201
DTEND:20190202
LOCATION:
SUMMARY:Bada Márta kiállítása | CZF 2019
DESCRIPTION:2019 februárjában a Cziffra György Fesztivál keretein belü
 l a MOMkult Reich Károly Lépcsőház Galériájában Bada Márta kortárs
  naiv cigány festőművésznő képei kerülnek kiállításra A kiállít
 ásmegnyitó időpontja | 2019. február 11. hétfő 18.00 Helyszín | MOMk
 ult Reich Károly Lépcsőház Galériája (1124 Budapest\,  Csörsz u. 18.
 ) A kiállítást megnyitja | Dr. Bába[..]\nhttps://momkult.hu/events/bada
 -marta-kiallitasa-czf-2019/
URL:https://momkult.hu/events/bada-marta-kiallitasa-czf-2019/
END:VEVENT
END:VCALENDAR