BEGIN:VCALENDAR
VERSION:2.0
PRODID:-//eventon.com NONSGML v1.0//EN
CALSCALE:GREGORIAN
METHOD:PUBLISH
BEGIN:VEVENT
UID:69eaab1d396bb
DTSTAMP:20260423T232829Z
DTSTART:20190324T103000Z
DTEND:20190324T121500Z
LOCATION:
SUMMARY:Masha és a Medve
DESCRIPTION:Masha és barátai ezúttal egy fantasztikus nyomozós kalandba
 n találják magukat Rózival a malaccal\,  nyuszival\,  a farkas testvére
 kkel\,  mókussal és pandával. A történetben szerepel még Kétkedőssy
  professzor\,  aki mint neve is mutatja\,  nem hisz a csodákban és varáz
 slatban\,  egy jeti fiú\,  aki fantasztikus dolgokra képes\,  valamint eg
 y meglepetés vendég\,  akit minden[..]\nhttps://momkult.hu/events/masha-e
 s-a-medve-9/
URL:https://momkult.hu/events/masha-es-a-medve-9/
END:VEVENT
END:VCALENDAR