BEGIN:VCALENDAR
VERSION:2.0
PRODID:-//eventon.com NONSGML v1.0//EN
CALSCALE:GREGORIAN
METHOD:PUBLISH
BEGIN:VEVENT
UID:69ea81d886b6e
DTSTAMP:20260423T203224Z
DTSTART:20190426T130000Z
DTEND:20190426T140000Z
LOCATION:
SUMMARY:ROBIN HOOD | Bóbita Bábszínház | MOMkult Gyermekszínház
DESCRIPTION:Kalandos bábelőadás 5 éven felüli gyermekeknek „Ő a hő
 s\,  Robin Hood\,  tolvajok fejedelme\,  Kábé negyvenöt perc a darab ter
 jedelme. Látható itt jó\,  gonosz és az ő csatájuk &#8211; Az előad
 st öt éves kortól ajánljuk. Egy időtlen angolszász klasszikus tört
 net! Végy jegyet rá\,  nem fogod megbánni döntésed!” /Bóbita Bábs
 zínház/ Színházbérlet kisiskolásoknak\nhttps://momkult.hu/events/robi
 n-hood-bobita-babszinhaz-momkult-gyermekszinhaz/
URL:https://momkult.hu/events/robin-hood-bobita-babszinhaz-momkult-gyermekszinhaz/
END:VEVENT
END:VCALENDAR