BEGIN:VCALENDAR
VERSION:2.0
PRODID:-//eventon.com NONSGML v1.0//EN
CALSCALE:GREGORIAN
METHOD:PUBLISH
BEGIN:VEVENT
UID:69eac337c4552
DTSTAMP:20260424T011119Z
DTSTART:20190319T140000Z
DTEND:20190319T150000Z
LOCATION:
SUMMARY:ANN-DROID - EGY ROBOTLÁNY CSODÁLATOS KALANDJAI | Bandart | MOMKult Gyermekszínház
DESCRIPTION:Pinokkió történet a XXI. századba ágyazva A különleges e
 lőadás a színházat a legújabb digitális technikákkal ötvözi. Rajz
 olt látványvilág\,  okos LED kosztüm\,  egy robotlabda és egy drón
 is színesíti ezt a csodálatos mesevilágot! A 21. századi Pinokkió-á
 tiratban Ann\,  a kis robotlány célja az emberré válás\,  ehhez pedig
 földön\,  vízen\,  levegőben rengeteg kaland és megpróbáltatás á
 rán vezet az[..]\nhttps://momkult.hu/events/ann-droid-egy-robotlany-csodal
 atos-kalandjai-bandart-momkult-gyermekszinhaz/
URL:https://momkult.hu/events/ann-droid-egy-robotlany-csodalatos-kalandjai-bandart-momkult-gyermekszinhaz/
END:VEVENT
END:VCALENDAR