BEGIN:VCALENDAR
VERSION:2.0
PRODID:-//eventon.com NONSGML v1.0//EN
CALSCALE:GREGORIAN
METHOD:PUBLISH
BEGIN:VEVENT
UID:69eaf5454beec
DTSTAMP:20260424T044453Z
DTSTART:20190212T140000Z
DTEND:20190212T150000Z
LOCATION:
SUMMARY:Holle anyó | Pódium Színház | MOMkult Gyermekszínház
DESCRIPTION:Népzenés téli mesejáték Máriát\,  a szorgos lányt\,  mo
 stohaanyja arra kényszeríti\,  hogy ugorjon kútba egy elvesztett orsóé
 rt. A kút világában\,  ami a felhők felett van\,  próbákat kell kiál
 lnia. Találkozik Holle anyóval\,  aki mellé elszegődik szolgálónak: a
  dunnákat kell kiráznia\,  aminek következtében a földön hó hullik&#
 8230;. Színházbérlet kisiskolásoknak\nhttps://momkult.hu/events/holle-a
 nyo-podium-szinhaz-momkult-gyermekszinhaz/
URL:https://momkult.hu/events/holle-anyo-podium-szinhaz-momkult-gyermekszinhaz/
END:VEVENT
END:VCALENDAR