BEGIN:VCALENDAR
VERSION:2.0
PRODID:-//eventon.com NONSGML v1.0//EN
CALSCALE:GREGORIAN
METHOD:PUBLISH
BEGIN:VEVENT
UID:69eac2b7709de
DTSTAMP:20260424T010911Z
DTSTART:20190319T100000Z
DTEND:20190319T110000Z
LOCATION:
SUMMARY:Ilók és Mihók | Egri Babszem Jankó Gyermekszínház | MOMkult Gyermekszínház
DESCRIPTION:Mulatságos népi mese muzsikával Nagy bánatba esett nemrégi
 ben Mihók! Furcsa érzés marja\,  fájdalom gebeszti. De nem ám betegsé
 g\,  hanem a szerelem! Osztán\,  hogy kit szeret? Meg nem mondja senki\,  
 aztat még Mihók sem sejti! Ha nem lenne az az okos édesanyja\,  tán mé
 g ma is csak sóhajtozik\,  nyűgölődik. De szerencsére[..]\nhttps://mom
 kult.hu/events/ilok-es-mihok-egri-babaszem-janko-gyermekszinhaz-momkult-gye
 rmekszinhaz/
URL:https://momkult.hu/events/ilok-es-mihok-egri-babaszem-janko-gyermekszinhaz-momkult-gyermekszinhaz/
END:VEVENT
END:VCALENDAR