BEGIN:VCALENDAR
VERSION:2.0
PRODID:-//eventon.com NONSGML v1.0//EN
CALSCALE:GREGORIAN
METHOD:PUBLISH
BEGIN:VEVENT
UID:69eb0fd7da024
DTSTAMP:20260424T063815Z
DTSTART:20190130T180000Z
DTEND:20190130T193000Z
LOCATION:
SUMMARY:Salvador Dalí művészete | művészettörténeti előadás
DESCRIPTION:Kedves Érdeklődők! A nagy érdeklődésre való tekintettel 
 az előadásra a színházteremben kerül sor\,  így további több száz 
 férőhelyet tudunk biztosítani. &#8212; &#8212; &#8212; Vetítéssel kís
 ért előadás Salvador Dalí (1904–1989) festőművész halálának 30. 
 évfordulója alkalmából Salvador Dalí a XX. század egyik legjelentőse
 bb művésze. Neve és életmódja összekapcsolódott a szürrealista stí
 lussal. Az[..]\nhttps://momkult.hu/events/salvador-dali-muveszete/
URL:https://momkult.hu/events/salvador-dali-muveszete/
END:VEVENT
END:VCALENDAR