BEGIN:VCALENDAR
VERSION:2.0
PRODID:-//eventon.com NONSGML v1.0//EN
CALSCALE:GREGORIAN
METHOD:PUBLISH
BEGIN:VEVENT
UID:69ea6ccd83c9b
DTSTAMP:20260423T190237Z
DTSTART:20190508T180000Z
DTEND:20190508T200000Z
LOCATION:
SUMMARY:Snatam Kaur
DESCRIPTION:SNATAM KAUR\,  a mantrazene világsztárja\,  a béke nagyköve
 te 2019 tavaszán ismét Budapestre látogat. Részletek: http://www.namas
 te-elmeny.hu/hu/snatam-kaur Snatam Kaurt: http://www.namaste-elmeny.hu/hu/
 snatam-kaur/fellepo video: http://www.namaste-elmeny.hu/hu/media Minden je
 gy elkelt\nhttps://momkult.hu/events/snatam-kaur-2/
URL:https://momkult.hu/events/snatam-kaur-2/
END:VEVENT
END:VCALENDAR