BEGIN:VCALENDAR
VERSION:2.0
PRODID:-//eventon.com NONSGML v1.0//EN
CALSCALE:GREGORIAN
METHOD:PUBLISH
BEGIN:VEVENT
UID:69eaf5b7418d0
DTSTAMP:20260424T044647Z
DTSTART:20190210T180000Z
DTEND:20190210T193000Z
LOCATION:
SUMMARY:Melodika Cinematique - filmzenei koncert
DESCRIPTION:AÂ MelodikaÂ ProjectÂ legÃºjabb mÅ±sorÃ¡n klasszikussÃ¡ vÃ¡lt f
 ilmzenÃ©k Ã©s filmzenÃ©vÃ© lett klasszikusok szerepelnek\,  a triÃ³tÃ³l meg
 szokott egyedi hangszerelÃ©sben Ã©s feldolgozÃ¡sban. A legkÃ¼lÃ¶nbÃ¶zÅ‘bb z
 enei stÃ­lusokbÃ³l alkotott fÃºziÃ³banÂ Fellini\,  Kusturica\,  Ridley Scot
 t vagy AlmodovarÂ filmjeinek jÃ³l ismert dallamai mellett tÃ¶bbek kÃ¶zÃ¶ttÂ
  Piazzolla\,  Vivaldi Ã©s PachelbelÂ mÅ±vek is megszÃ³lalnak a megszokottÃ³
 l eltÃ©rÅ‘\,  kÃ¼lÃ¶nleges hangzÃ¡sban. A koncertet a zenÃ©k Ã¡ltal ihletet
 t[..]\nhttps://momkult.hu/events/melodika-cinematique-filmzenei-koncert-mel
 odika-project/
URL:https://momkult.hu/events/melodika-cinematique-filmzenei-koncert-melodika-project/
END:VEVENT
END:VCALENDAR