BEGIN:VCALENDAR
VERSION:2.0
PRODID:-//eventon.com NONSGML v1.0//EN
CALSCALE:GREGORIAN
METHOD:PUBLISH
BEGIN:VEVENT
UID:69eaf55f659ad
DTSTAMP:20260424T044519Z
DTSTART:20190217T190000Z
DTEND:20190217T210000Z
LOCATION:
SUMMARY:Adagio
DESCRIPTION:Némi kihagyás után újra színpadra áll a Homonnay Zsolt ve
 zette trió\,  az Adagio. Az eddig négy platinalemezzel büszkélkedő for
 máció repertoárjában közkedvelt magyar és nemzetközi pop\,  illetve 
 klasszikus dalok szerepelnek szimfonikus zenekari kísérettel\,  mindez eg
 yéni stílusban előadva. Valentin nap\nhttps://momkult.hu/events/adagio/
URL:https://momkult.hu/events/adagio/
END:VEVENT
END:VCALENDAR