BEGIN:VCALENDAR
VERSION:2.0
PRODID:-//eventon.com NONSGML v1.0//EN
CALSCALE:GREGORIAN
METHOD:PUBLISH
BEGIN:VEVENT
UID:69eaae66106b8
DTSTAMP:20260423T234230Z
DTSTART:20190331T180000Z
DTEND:20190331T203000Z
LOCATION:
SUMMARY:Aguas Trio - Sosa\,  Cañizares\,  Ovalles | Get Closer Jazz Fest 2019
DESCRIPTION:19.00 – ELŐZENEKAR: Tóth Evelin – Ewiva! 20.30 – Aguas 
 Trio A zongorista Omar Sosa és a hegedűs-énekes Yilian Cañizares talál
 kozásából egy csodálatos és nagyon személyes album született Aguas c
 ímmel. Mindketten olyan kubai művészek\,  akik szülőhazájuktól távo
 l élnek\,  mégis a gyökereiket és hagyományaikat értelmezik finom és
  egyedülálló módon. A hol[..]\nhttps://momkult.hu/events/aguas-trio-sos
 a-canizares-ovalles-get-closer-jazz-fest-2019/
URL:https://momkult.hu/events/aguas-trio-sosa-canizares-ovalles-get-closer-jazz-fest-2019/
END:VEVENT
END:VCALENDAR