BEGIN:VCALENDAR
VERSION:2.0
PRODID:-//eventon.com NONSGML v1.0//EN
CALSCALE:GREGORIAN
METHOD:PUBLISH
BEGIN:VEVENT
UID:69eaacdb99be4
DTSTAMP:20260423T233555Z
DTSTART:20190329T190000Z
DTEND:20190329T203000Z
LOCATION:
SUMMARY:Kenny Garrett Quintet | Get Closer Jazz Fest 2019
DESCRIPTION:19.00 | ELŐZENEKAR: Tóth Viktor &amp; Mahasimbadavi Players 2
 0.30 | Kenny Garrett Quintet A jazz-szaxofonosok élő ikonja\,  KENNY GARR
 ETT ismét Budapestre látogat. Néhány évvel ezelőtt a Washington Post 
 kritikusa fogalmazta meg találóan: „Kenny Garrett koncertjei előtt vih
 arjelzést kellene fellőni.” Kenny Garrett vitathatatlanul a világ egyi
 k legjobb szaxofonosa. Az igen sajátos[..]\nhttps://momkult.hu/events/kenn
 y-garrett-quintet-get-closer-jazz-fest-2019/
URL:https://momkult.hu/events/kenny-garrett-quintet-get-closer-jazz-fest-2019/
END:VEVENT
END:VCALENDAR