BEGIN:VCALENDAR
VERSION:2.0
PRODID:-//eventon.com NONSGML v1.0//EN
CALSCALE:GREGORIAN
METHOD:PUBLISH
BEGIN:VEVENT
UID:69eaab1d396bb
DTSTAMP:20260423T232829Z
DTSTART:20190330T190000Z
DTEND:20190330T193000Z
LOCATION:
SUMMARY:Patricia Barber | Get Closer Jazz Fest 2019
DESCRIPTION:Kedves Érdeklődők! 2019. március 30-án 19:00 órakor Patri
 cia Barber kezd\,  az &#8222;előzenekar&#8221; (Mózes Tamara &amp; Benkó
  Ákos) 20:30-kor lép fel. &#8212; &#8212; &#8212; 19.00 – Patricia Bar
 ber Trio 20.30 – ELŐZENEKAR: Mózes Tamara &amp; Benkó Ákos A kortárs
  jazz egyik poétikus\,  különutas énekesnője Patricia Barber\,  aki le
 nyűgöző előadóként és briliáns komponistaként[..]\nhttps://momkult
 .hu/events/patricia-barber-get-closer-jazz-fest-2019/
URL:https://momkult.hu/events/patricia-barber-get-closer-jazz-fest-2019/
END:VEVENT
END:VCALENDAR