BEGIN:VCALENDAR
VERSION:2.0
PRODID:-//eventon.com NONSGML v1.0//EN
CALSCALE:GREGORIAN
METHOD:PUBLISH
BEGIN:VEVENT
UID:69eac2e5d0a9c
DTSTAMP:20260424T010957Z
DTSTART:20190318T200000Z
DTEND:20190318T213000Z
LOCATION:
SUMMARY:Son del Nene | Get Closer Concerts
DESCRIPTION:A Son Del Nene méltó utóda a nagy kubai zenészgenerációna
 k\,  a Buena Vista Social Club tagjainak\,  a zenekar vezetője Omara Portu
 ondoval és Ibrahim Ferrerrel turnézott is. Jellegzetes sapkájában olyan
 \,  mintha Ibrahim Ferrer fiatalabb változatát látnánk a színpadon. Ig
 azi sonero mayor\,  nemcsak a megjelenésében hasonlít a legendára\,  ha
 nem hangjában\,  tehetségében is.[..]\nhttps://momkult.hu/events/son-del
 -nene-get-closer-concerts/
URL:https://momkult.hu/events/son-del-nene-get-closer-concerts/
END:VEVENT
END:VCALENDAR