BEGIN:VCALENDAR
VERSION:2.0
PRODID:-//eventon.com NONSGML v1.0//EN
CALSCALE:GREGORIAN
METHOD:PUBLISH
BEGIN:VEVENT
UID:69eb0fcd68669
DTSTAMP:20260424T063805Z
DTSTART:20190120T110000Z
DTEND:20190120T120000Z
LOCATION:
SUMMARY:Eszterlánc mesezenekar
DESCRIPTION:&#8222;Dallamok\,  versek\,  bábok\,  buborékok\,  ukulele\, 
  gitár\,  bőgő\,  furulya\,  dob\,  derbuka és társai pörögnek ezerr
 el. Kárász Eszter játszik\,  táncol\,  énekel\,  hadonász\,  varázso
 l\,  miközben viccesen és kedvesen vagy szomorkásan csengnek-pengnek a n
 épdalok\,  a Csukások\,  Weöresek és Varró Danik. Jó kis koktél\,  d
 upla buborékkal\,  alkoholmentesen.&#8221; /Lackfi János/ Kárász Eszter
  (ének\,  ukulele) Bata István[..]\nhttps://momkult.hu/events/eszterlanc-
 mesezenekar/
URL:https://momkult.hu/events/eszterlanc-mesezenekar/
END:VEVENT
END:VCALENDAR