BEGIN:VCALENDAR
VERSION:2.0
PRODID:-//eventon.com NONSGML v1.0//EN
CALSCALE:GREGORIAN
METHOD:PUBLISH
BEGIN:VEVENT
UID:69eb289a9a302
DTSTAMP:20260424T082354Z
DTSTART:20190118T140000Z
DTEND:20190118T160000Z
LOCATION:
SUMMARY:NyugdÃ­jas Klub
DESCRIPTION:A kÃ©thetente jelentkezÅ‘ program tartalmas kikapcsolÃ³dÃ¡st kÃ
 ­nÃ¡l a HegyvidÃ©ken Ã©lÅ‘ nyugdÃ­jasok szÃ¡mÃ¡ra.\nhttps://momkult.hu/even
 ts/nyugdijas-klub-7/
URL:https://momkult.hu/events/nyugdijas-klub-7/
END:VEVENT
END:VCALENDAR