BEGIN:VCALENDAR
VERSION:2.0
PRODID:-//eventon.com NONSGML v1.0//EN
CALSCALE:GREGORIAN
METHOD:PUBLISH
BEGIN:VEVENT
UID:69eb25c9d8abd
DTSTAMP:20260424T081153Z
DTSTART:20190113T103000Z
DTEND:20190113T113000Z
LOCATION:
SUMMARY:Hangszerek világa
DESCRIPTION:Balázs János Magyarország Érdemes Művésze\,  Liszt- és P
 rima-díjas zongoraművész hangszerbemutató koncertje gyerekeknek.\nhttps
 ://momkult.hu/events/hangszerek-vilaga/
URL:https://momkult.hu/events/hangszerek-vilaga/
END:VEVENT
END:VCALENDAR