BEGIN:VCALENDAR
VERSION:2.0
PRODID:-//eventon.com NONSGML v1.0//EN
CALSCALE:GREGORIAN
METHOD:PUBLISH
BEGIN:VEVENT
UID:69eac2b267be9
DTSTAMP:20260424T010906Z
DTSTART:20190310T160000Z
DTEND:20190310T190000Z
LOCATION:
SUMMARY:Nosztalgia társastánc
DESCRIPTION:Tánc nosztalgikus dallamokra. Minden alkalommal táncbemutató
  nyugdíjas\,  amatőr táncosokkal. Standard táncok\,  latin táncok\,  s
 wing\,  rock ’n’ roll. Táncbemutatók között és után: össztánc!\
 nhttps://momkult.hu/events/nosztalgia-tarsastanc-4/
URL:https://momkult.hu/events/nosztalgia-tarsastanc-4/
END:VEVENT
END:VCALENDAR