BEGIN:VCALENDAR
VERSION:2.0
PRODID:-//eventon.com NONSGML v1.0//EN
CALSCALE:GREGORIAN
METHOD:PUBLISH
BEGIN:VEVENT
UID:69eb0f5e14413
DTSTAMP:20260424T063614Z
DTSTART:20190126T190000Z
DTEND:20190126T203000Z
LOCATION:
SUMMARY:Szirtes Edina Mókus
DESCRIPTION:Szirtes Edina Mókus szólókoncertje.\nhttps://momkult.hu/even
 ts/tarskereso-szirtes-edina-mokus/
URL:https://momkult.hu/events/tarskereso-szirtes-edina-mokus/
END:VEVENT
END:VCALENDAR