BEGIN:VCALENDAR
VERSION:2.0
PRODID:-//eventon.com NONSGML v1.0//EN
CALSCALE:GREGORIAN
METHOD:PUBLISH
BEGIN:VEVENT
UID:69eaf55f659ae
DTSTAMP:20260424T044519Z
DTSTART:20190214T190000Z
DTEND:20190214T203000Z
LOCATION:
SUMMARY:Boldogan élünk\,  míg meg nem halunk? | Kepes András estje
DESCRIPTION:Kepes András újságíró\,  író\,  egyetemi tanár\,  telev
 íziós személyiség\,  aki hat gyerekkel és unokákkal körülvéve komo
 ly tapasztalatokkal rendelkezik családi téren. A vetítéssel színesíte
 tt előadásban – saját családtörténeteire és tudományos  ismerete
 ire is támaszkodva – olyan témák kerülnek szóba\,  mint a házasság
   és a boldogság kapcsolata\,  a hűség\,  féltékenység\,   vagy a 
 szórakoztató kamaszkor.[..]\nhttps://momkult.hu/events/boldogan-elunk-mig
 -meg-nem-halunk-kepes-andras-estje/
URL:https://momkult.hu/events/boldogan-elunk-mig-meg-nem-halunk-kepes-andras-estje/
END:VEVENT
END:VCALENDAR