BEGIN:VCALENDAR
VERSION:2.0
PRODID:-//eventon.com NONSGML v1.0//EN
CALSCALE:GREGORIAN
METHOD:PUBLISH
BEGIN:VEVENT
UID:69eb433c2c1bc
DTSTAMP:20260424T101732Z
DTSTART:20181230T170000Z
DTEND:20181230T190000Z
LOCATION:
SUMMARY:Hot Jazz Band
DESCRIPTION:A Hot Jazz Band előszilveszteri koncertje. Előszilveszteri ko
 ncert\nhttps://momkult.hu/events/hot-jazz-band/
URL:https://momkult.hu/events/hot-jazz-band/
END:VEVENT
END:VCALENDAR