BEGIN:VCALENDAR
VERSION:2.0
PRODID:-//eventon.com NONSGML v1.0//EN
CALSCALE:GREGORIAN
METHOD:PUBLISH
BEGIN:VEVENT
UID:69eb42cd4693a
DTSTAMP:20260424T101541Z
DTSTART:20181215T180000Z
DTEND:20181215T190000Z
LOCATION:
SUMMARY:Adventi hangverseny | Ad Libitum Gitáregyüttes és vendégművészei
DESCRIPTION:Klasszikus gitárzene a reneszánsztól a XXI. század zenéjé
 ig. Csala Éva – gordonkaművész Vimláti Judit &#8211; fuvolaművész T
 arnai Dávid – operaénekes konferál: Bárkányi Judit\nhttps://momkult.
 hu/events/adventi-hangverseny-ad-libitum-gitaregyuttes-es-vendegmuveszei/
URL:https://momkult.hu/events/adventi-hangverseny-ad-libitum-gitaregyuttes-es-vendegmuveszei/
END:VEVENT
END:VCALENDAR