BEGIN:VCALENDAR
VERSION:2.0
PRODID:-//eventon.com NONSGML v1.0//EN
CALSCALE:GREGORIAN
METHOD:PUBLISH
BEGIN:VEVENT
UID:69eb4336cff5a
DTSTAMP:20260424T101726Z
DTSTART:20181216T160000Z
DTEND:20181216T183000Z
LOCATION:
SUMMARY:Golgota Gospel Kórus & Band
DESCRIPTION:Glória\nhttps://momkult.hu/events/golgota-gospel-korus-band/
URL:https://momkult.hu/events/golgota-gospel-korus-band/
END:VEVENT
END:VCALENDAR