BEGIN:VCALENDAR
VERSION:2.0
PRODID:-//eventon.com NONSGML v1.0//EN
CALSCALE:GREGORIAN
METHOD:PUBLISH
BEGIN:VEVENT
UID:69eb0f8f0cf58
DTSTAMP:20260424T063703Z
DTSTART:20190207T190000Z
DTEND:20190207T210000Z
LOCATION:
SUMMARY:Roy és Ádám | 20 éves jubileumi koncert\,  szimfonikus nagyzenekarral
DESCRIPTION:Bizony már jó pár év eltelt azóta\,  hogy a Roy &amp; Ád
 m zenekar berobbant a köztudatba. 1998 májusa óta hét albumot jelentet
 ett meg a formáció. 2006-tól a Black-Outból jól ismert Csányi Zoltán
  dobossal kiegészülve\,  trióként működnek\,  és járják az ország
 ot. Olyan slágerek\,  sikerdalok fémjelzik zenei pályájukat\,  mint ’
 A csapból is[..]\nhttps://momkult.hu/events/roy-es-adam-20-eves-jubilemi-k
 oncert-szimfonikus-nagyzenekarral/
URL:https://momkult.hu/events/roy-es-adam-20-eves-jubilemi-koncert-szimfonikus-nagyzenekarral/
END:VEVENT
END:VCALENDAR