BEGIN:VCALENDAR
VERSION:2.0
PRODID:-//eventon.com NONSGML v1.0//EN
CALSCALE:GREGORIAN
METHOD:PUBLISH
BEGIN:VEVENT
UID:69ea560eca031
DTSTAMP:20260423T172534Z
DTSTART:20190530T190000Z
DTEND:20190530T210000Z
LOCATION:
SUMMARY:Mirabai Ceiba | Agua de Luna turné
DESCRIPTION:Mirabai Ceibát a szelíd és mindent átható zene jellemzi. A
  hárfa\,  zongora és a gitár finom hangját szeretettel elegyítik ének
 hangokkal. Koncertjeik a békesség örömteli és felemelő ünnepei\,  ah
 ol alkalom lehet közösen megélni mindazt\,  amiben a duó mélyen hisz: 
 a zene\,  mint univerzális nyelv egyesíti a világ minden emberét\,  kul
 túráját és[..]\nhttps://momkult.hu/events/mirabai-ceiba/
URL:https://momkult.hu/events/mirabai-ceiba/
END:VEVENT
END:VCALENDAR