BEGIN:VCALENDAR
VERSION:2.0
PRODID:-//eventon.com NONSGML v1.0//EN
CALSCALE:GREGORIAN
METHOD:PUBLISH
BEGIN:VEVENT
UID:69eac3173171a
DTSTAMP:20260424T011047Z
DTSTART:20190320T190000Z
DTEND:20190320T220000Z
LOCATION:
SUMMARY:Djabe | Koncert surround hangzásban | Flow & Witchi Tai To
DESCRIPTION:A Djabe 2018 szeptemberében mutatta be Flow című új albumá
 t. A siker egyaránt szólt a zenének\,  és a nem mindennapi élő surrou
 nd hangzásnak. A Flow külföldön is népszerű lett\,  több amerikai é
 s európai meghívást eredményezett az együttesnek. Közkívánatra a ko
 ncertet újra műsorra tűzte a Djabe zenekar\,  hogy eljátssza a teljes[.
 .]\nhttps://momkult.hu/events/djabe-koncert-surround-hangzasban-flow-witchi
 -tai-to/
URL:https://momkult.hu/events/djabe-koncert-surround-hangzasban-flow-witchi-tai-to/
END:VEVENT
END:VCALENDAR