BEGIN:VCALENDAR
VERSION:2.0
PRODID:-//eventon.com NONSGML v1.0//EN
CALSCALE:GREGORIAN
METHOD:PUBLISH
BEGIN:VEVENT
UID:69eb0fcd68669
DTSTAMP:20260424T063805Z
DTSTART:20190122T190000Z
DTEND:20190122T210000Z
LOCATION:
SUMMARY:Fölszállott a páva gála | Magyar Kultúra Napja
DESCRIPTION:Öt sikeres évad után a Fölszállott a páva című műsor A
  Döntők Döntőjével jelentkezik az idei évben. A zsűri az elmúlt év
 ek legjobb produkcióit hívta vissza\,  akik ismét négy kategóriában v
 ersenyeznek – a döntés viszont immár a nézőkön múlik. A MOM Kultur
 ális Központ ismét megrendezi a mezőny legjobbjaiból a Fölszállott[.
 .]\nhttps://momkult.hu/events/folszallott-a-pava-gala-magyar-kultura-napja/
URL:https://momkult.hu/events/folszallott-a-pava-gala-magyar-kultura-napja/
END:VEVENT
END:VCALENDAR