BEGIN:VCALENDAR
VERSION:2.0
PRODID:-//eventon.com NONSGML v1.0//EN
CALSCALE:GREGORIAN
METHOD:PUBLISH
BEGIN:VEVENT
UID:69ea82b6647c9
DTSTAMP:20260423T203606Z
DTSTART:20190417T180000Z
DTEND:20190417T200000Z
LOCATION:
SUMMARY:J. S. Bach: JÃ¡nos-passiÃ³ (BWV 245) | Ars Nova Sacra Ã‰nekegyÃ¼ttes Ã©s a Presto KamaraegyÃ¼ttes
DESCRIPTION:A barokk kor zenei fejedelmÃ©nek\,  Johann Sebastian Bachnak (1
 685-1750) JÃ¡nos evangelista szÃ¶vegÃ©re Ã­rott passiÃ³ja a JÃ¡nos-passiÃ³\
 ,  mely mindenkori felhangzÃ¡sa a maga korÃ¡ban Ã©s napjainkban is Ã¼nnep a
  hallgatÃ³sÃ¡g szÃ¡mÃ¡ra. Bach 1723-ban KÃ¶thenben Ã­rta meg a passiÃ³t\,  
 melyet elÅ‘szÃ¶r 1724. Ã¡prilis 7-Ã©n NagypÃ©nteken mutatott be\,  s ezt kÃ
 ¶vetÅ‘en tÃ¶bb alkalommal is[..]\nhttps://momkult.hu/events/johann-sebastia
 n-bach-janos-passio-ars-nova-sacra-enekegyuttes-es-presto-kamaraegyuttes/
URL:https://momkult.hu/events/johann-sebastian-bach-janos-passio-ars-nova-sacra-enekegyuttes-es-presto-kamaraegyuttes/
END:VEVENT
END:VCALENDAR