BEGIN:VCALENDAR
VERSION:2.0
PRODID:-//eventon.com NONSGML v1.0//EN
CALSCALE:GREGORIAN
METHOD:PUBLISH
BEGIN:VEVENT
UID:69eb619d632fe
DTSTAMP:20260424T122709Z
DTSTART:20181202T180000Z
DTEND:20181202T200000Z
LOCATION:
SUMMARY:SzÃ¡z perc szÃ¡z emberÃ©rt | BeregszÃ¡szi Olga Ã©s barÃ¡tainak 15. jubileumi jÃ³tÃ©konysÃ¡gi koncertje
DESCRIPTION:FÅ‘vÃ©dnÃ¶k: Schmitt PÃ¡l VÃ©dnÃ¶kÃ¶k: MÃ¡dl Dalma\,  SchmittnÃ
 © Makray Katalin KÃ¶szÃ¶ntÅ‘t mond: Bocskor Andrea\,  kÃ¡rpÃ¡taljai eurÃ³pa
 i parlamenti kÃ©pviselÅ‘ Ã©s BabjÃ¡k ZoltÃ¡n\,  BeregszÃ¡sz polgÃ¡rmestere 
 A kÃ¡rpÃ¡taljai nehÃ©z sorsÃº csalÃ¡dok megsegÃ­tÃ©sÃ©reCsillagszemÅ±ek Ber
 ecz IstvÃ¡n KusnÃ¡s Csaba Ã©s Ã©desapja MH LÃ©gierÅ‘ Zenekar VezÃ©nyel: Kat
 ona SÃ¡ndor SztÃ¡rvendÃ©g: Pataky Attila VirtuÃ³zok Hampel Katalin divat-sh
 ow prominens szemÃ©lyisÃ©gekkel Nagy[..]\nhttps://momkult.hu/events/beregsz
 aszi-olga-es-baratainak-15-jubileumi-jotekonysagi-koncertje/
URL:https://momkult.hu/events/beregszaszi-olga-es-baratainak-15-jubileumi-jotekonysagi-koncertje/
END:VEVENT
END:VCALENDAR