BEGIN:VCALENDAR
VERSION:2.0
PRODID:-//eventon.com NONSGML v1.0//EN
CALSCALE:GREGORIAN
METHOD:PUBLISH
BEGIN:VEVENT
UID:69eb0fbc3a951
DTSTAMP:20260424T063748Z
DTSTART:20190123T180000Z
DTEND:20190123T193000Z
LOCATION:
SUMMARY:„mert én vagyok az alany és a tárgy…” – Ars poetica\,  napló\,  önarckép: a művész önképe
DESCRIPTION:Párbeszédes előadásainkon a magyar és egyetemes művészet
  nagy témaköreit tekintjük át a klasszikus irodalmi és képzőművész
 eti műfajokon keresztül. Előadásainkon szó lesz történelemről\,  sz
 erelemről\,  ellentétekről\,  szegényekről és gazdagokról\,  a term
 szet változó jelentéseiről\,  s természetesen a művész önmagáról
  alkotott képéről is. Naplók\,  eposzok\,  önarcképek\,  csendéletek
 \,  himnuszok és még sok minden más. Egy[..]\nhttps://momkult.hu/events/
 mert-en-vagyok-az-alany-es-a-targy-ars-poetica-naplo-onarckep-a-muvesz-onke
 pe/
URL:https://momkult.hu/events/mert-en-vagyok-az-alany-es-a-targy-ars-poetica-naplo-onarckep-a-muvesz-onkepe/
END:VEVENT
END:VCALENDAR