BEGIN:VCALENDAR
VERSION:2.0
PRODID:-//eventon.com NONSGML v1.0//EN
CALSCALE:GREGORIAN
METHOD:PUBLISH
BEGIN:VEVENT
UID:69eb2e695c595
DTSTAMP:20260424T084841Z
DTSTART:20190118T193000Z
DTEND:20190118T220000Z
LOCATION:
SUMMARY:Király Martina | Hegyvidéki Smooth Jazz Klub
DESCRIPTION:Király Martina a Liszt Ferenc Zeneművészeti Egyetem jazzéne
 k szakán végzett. Pályáját az Equinox Jazz Quartetben kezdte\,  majd a
  13 tagú Anselmo Crew énekesnőjeként folytatta. Szerzőként és előad
 óként dolgozott a Hobo Blues Band-del\,  Zoohackerrel és Palya Beával. 
 Első lemeze 2011-ben jelent meg Ready for you címmel\,  amelyről a Ballo
 nkabát c. dal[..]\nhttps://momkult.hu/events/kiraly-martina-hegyvideki-smo
 oth-jazz-club/
URL:https://momkult.hu/events/kiraly-martina-hegyvideki-smooth-jazz-club/
END:VEVENT
END:VCALENDAR