BEGIN:VCALENDAR
VERSION:2.0
PRODID:-//eventon.com NONSGML v1.0//EN
CALSCALE:GREGORIAN
METHOD:PUBLISH
BEGIN:VEVENT
UID:69eb0f5d818b3
DTSTAMP:20260424T063613Z
DTSTART:20190127T190000Z
DTEND:20190127T203000Z
LOCATION:
SUMMARY:MEGTELT!!! VERSEK ISTENRŐL\,  HAZÁRÓL\,  SZERELEMRŐL | Kunfi Kuncz László Ady-estje
DESCRIPTION:Kedves Érdeklődők! Felhívjuk szíves figyelmüket\,  hogy K
 unfi Kuncz László vers- és énekmondó\,  műkedvelő előadására a vi
 sszajelzések alapján és a nagyszámú érdeklődés miatt az előadásr
 a való bejutást garantálni nem tudjuk. Helyfoglalás érkezési sorrendb
 en. A terem befogadóképességén túl a kötelező biztonsági előírás
 ok betartása miatt több látogatót nem áll majd módunkban beengedni. M
 egértésüket köszönjük.\nhttps://momkult.hu/events/versek-istenrol-haz
 arol-szerelemrol-kunfi-kuncz-laszlo-ady-estje/
URL:https://momkult.hu/events/versek-istenrol-hazarol-szerelemrol-kunfi-kuncz-laszlo-ady-estje/
END:VEVENT
END:VCALENDAR