BEGIN:VCALENDAR
VERSION:2.0
PRODID:-//eventon.com NONSGML v1.0//EN
CALSCALE:GREGORIAN
METHOD:PUBLISH
BEGIN:VEVENT
UID:69eb42cd4693c
DTSTAMP:20260424T101541Z
DTSTART:20181229T190000Z
DTEND:20181229T203000Z
LOCATION:
SUMMARY:Karácsonyi Keringő | A Budapesti Strauss Zenekar karácsonyi koncertje
DESCRIPTION:A nemzetközi hírű szimfonikus zenekart Bogár István alapí
 totta 1986-ban. A zenekar alakulását követően hosszú éveken át csak 
 külföldön lépett fel. Magyarországon az 1993-ban indult Ferencvárosi 
 Ünnepi Játékok rendezvénysorozat állandó fellépője lett a zenekar. 
 Ezen kívül számos templomi koncertet\,  operaelőadást és szabadtéri 
 koncertet játszott. Bogár István halála után\,  2007 óta a[..]\nhttps
 ://momkult.hu/events/klasszikus-karacsony-budapesti-strauss-zenekar/
URL:https://momkult.hu/events/klasszikus-karacsony-budapesti-strauss-zenekar/
END:VEVENT
END:VCALENDAR