BEGIN:VCALENDAR
VERSION:2.0
PRODID:-//eventon.com NONSGML v1.0//EN
CALSCALE:GREGORIAN
METHOD:PUBLISH
BEGIN:VEVENT
UID:69eb299545cea
DTSTAMP:20260424T082805Z
DTSTART:20181231T190000Z
DTEND:20181231T210000Z
LOCATION:
SUMMARY:Szilveszter este | Budapest Bár
DESCRIPTION:A Budapest Bárt Farkas Róbert alapította és vezeti. Eredeti
  szándéka az volt\,  hogy a új lendületet adjon a kávéházi cigányze
 ne műfajának\,  életbentartva és megújítva a régi hagyományokat. A 
 zenekarnak köszönhetően rég elfeledett dallamok váltak újra a köztud
 at\,  és a fiatalok kultúrájának részévé. Az együttes megalakulása
  óta több generációs kedvenccé vált[..]\nhttps://momkult.hu/events/sz
 ilveszter-este-budapest-bar-copy/
URL:https://momkult.hu/events/szilveszter-este-budapest-bar-copy/
END:VEVENT
END:VCALENDAR