BEGIN:VCALENDAR
VERSION:2.0
PRODID:-//eventon.com NONSGML v1.0//EN
CALSCALE:GREGORIAN
METHOD:PUBLISH
BEGIN:VEVENT
UID:69eaf5b7418cd
DTSTAMP:20260424T044647Z
DTSTART:20190224T113000Z
DTEND:20190224T123000Z
LOCATION:
SUMMARY:Maszkabál | Gryllus Vilmos
DESCRIPTION:Egy maszkabálon sok-sok különös alakot rejtenek a jelmezek.
  Róluk énekel Gryllus Vilmos. Minden jegy elkelt\nhttps://momkult.hu/even
 ts/maszkabal-gryllus-vilmos-2/
URL:https://momkult.hu/events/maszkabal-gryllus-vilmos-2/
END:VEVENT
END:VCALENDAR