BEGIN:VCALENDAR
VERSION:2.0
PRODID:-//eventon.com NONSGML v1.0//EN
CALSCALE:GREGORIAN
METHOD:PUBLISH
BEGIN:VEVENT
UID:69eaf54c53411
DTSTAMP:20260424T044500Z
DTSTART:20190224T093000Z
DTEND:20190224T103000Z
LOCATION:
SUMMARY:Maszkabál | Gryllus Vilmos
DESCRIPTION:Egy maszkabálon sok-sok különös alakot rejtenek a jelmezek.
  Róluk énekel Gryllus Vilmos. Minden jegy elkelt\nhttps://momkult.hu/even
 ts/maszkabal-gryllus-vilmos/
URL:https://momkult.hu/events/maszkabal-gryllus-vilmos/
END:VEVENT
END:VCALENDAR