BEGIN:VCALENDAR
VERSION:2.0
PRODID:-//eventon.com NONSGML v1.0//EN
CALSCALE:GREGORIAN
METHOD:PUBLISH
BEGIN:VEVENT
UID:69eb4336d0afa
DTSTAMP:20260424T101726Z
DTSTART:20181223T093000Z
DTEND:20181223T103000Z
LOCATION:
SUMMARY:Szabad-e bejÃ¶nni ide betlehemmel? | KalÃ¡ka EgyÃ¼ttes
DESCRIPTION:Mikor a betlehemesek karÃ¡csonykor hÃ¡zrÃ³l-hÃ¡zra jÃ¡rnak\,  Ã
 ¼dvÃ¶zlÅ‘ versÃ¼k vÃ©gÃ©n ezt kÃ©rdezik: Szabad-e bejÃ¶nni ide betlehemmel?
  A KalÃ¡ka egyÃ¼ttes karÃ¡csonyi hangversenyÃ©nek kerete ez a betlehemes jÃ
 ¡tÃ©k. A mÅ±sorban elhangzanak magyar Ã©s mÃ¡s nemzetisÃ©gÅ± karÃ¡csonyi nÃ
 ©pdalok\,  rÃ©gi egyhÃ¡zi Ã©nekek\,  karÃ¡csonyi versekre Ã­rott KalÃ¡ka da
 lok. Minden jegy elkelt\nhttps://momkult.hu/events/szabad-e-bejonni-ide-bet
 lehemmel-kalaka-egyuttes/
URL:https://momkult.hu/events/szabad-e-bejonni-ide-betlehemmel-kalaka-egyuttes/
END:VEVENT
END:VCALENDAR