BEGIN:VCALENDAR
VERSION:2.0
PRODID:-//eventon.com NONSGML v1.0//EN
CALSCALE:GREGORIAN
METHOD:PUBLISH
BEGIN:VEVENT
UID:69eb5bf53d409
DTSTAMP:20260424T120301Z
DTSTART:20181202T093000Z
DTEND:20181202T103000Z
LOCATION:
SUMMARY:Nótás Mikulás | Gryllus Vilmos koncertje
DESCRIPTION:Gryllus Vilmos Mikulás váró koncertje. „Nótás Mikulás\,
   flótás\,  pikulás\,  jön a sok jóval\,  hegedű\,  szóval. Csellón
  muzsikál\,  csizmám tele már\,  mosolyog\,  hallgat\,  haza úgy ballag
 .” Belépés egy éves kor alatt ingyenes. Helyfoglalás érkezési sorre
 ndben. Minden jegy elkelt\nhttps://momkult.hu/events/notas-mikulas-gryllus-
 vilmos-koncertje/
URL:https://momkult.hu/events/notas-mikulas-gryllus-vilmos-koncertje/
END:VEVENT
END:VCALENDAR