BEGIN:VCALENDAR
VERSION:2.0
PRODID:-//eventon.com NONSGML v1.0//EN
CALSCALE:GREGORIAN
METHOD:PUBLISH
BEGIN:VEVENT
UID:69eb5c1e0878a
DTSTAMP:20260424T120342Z
DTSTART:20181209T160000Z
DTEND:20181209T190000Z
LOCATION:
SUMMARY:Nosztalgia társastánc
DESCRIPTION:Tánc nosztalgikus dallamokra. Minden alkalommal táncbemutató
  nyugdíjas\,  amatőr táncosokkal. Standard táncok\,  latin táncok\,  s
 wing\,  rock ’n’ roll. Táncbemutatók között és után: össztánc!\
 nhttps://momkult.hu/events/nosztalgia-tarsastanc-2/
URL:https://momkult.hu/events/nosztalgia-tarsastanc-2/
END:VEVENT
END:VCALENDAR