BEGIN:VCALENDAR
VERSION:2.0
PRODID:-//eventon.com NONSGML v1.0//EN
CALSCALE:GREGORIAN
METHOD:PUBLISH
BEGIN:VEVENT
UID:69eb42e2b1dd9
DTSTAMP:20260424T101602Z
DTSTART:20181222T190000Z
DTEND:20181222T210000Z
LOCATION:
SUMMARY:Barokk karácsony
DESCRIPTION:1. Claudio Monteverdi: Magnificat Szólisták: Sárkány Júlia
  (szoprán) Víz Mária &#8211; szoprán (echo) 2. Georg Philipp Telemann: 
 a-moll concerto 2 fuvolára Szólisták: Weidemann-Tóth Krisztina (fuvola)
  Kutas Dominika (fuvola) 3. Johann Sebastian Bach: Weichnachts-Oratorium (B
 WW 248) Flöss mein Heiland (szoprán ária) Szólisták: Sárkány Júlia 
 (szoprán) Weidemann-Tóth Krisztina (fuvola) 4. Georg Friedrich[..]\nhttps
 ://momkult.hu/events/barokk-karacsony/
URL:https://momkult.hu/events/barokk-karacsony/
END:VEVENT
END:VCALENDAR