BEGIN:VCALENDAR
VERSION:2.0
PRODID:-//eventon.com NONSGML v1.0//EN
CALSCALE:GREGORIAN
METHOD:PUBLISH
BEGIN:VEVENT
UID:69eb5beb7ceff
DTSTAMP:20260424T120251Z
DTSTART:20181211T190000Z
DTEND:20181211T203000Z
LOCATION:
SUMMARY:Csillagkép | Bereczki Zoltán
DESCRIPTION:Bereczki Zoltán önálló estje a Játékszín és a Lepkegyű
 jtő Produkció együttműködésében. A zenés színpadok egyik legnépsz
 erűbb énekes-színésze december 10-én és 11-én várja a közönséget
 . Mindkét estére Palya Beát invitálta vendégségbe. Közreműködnek: 
 Balog László Bubenyák Zoltán Csiszár Ferenc Studniczky László Kiss E
 nikő Tiborcz Zsófia\nhttps://momkult.hu/events/csillagkep-bereczki-zoltan
 -2/
URL:https://momkult.hu/events/csillagkep-bereczki-zoltan-2/
END:VEVENT
END:VCALENDAR