BEGIN:VCALENDAR
VERSION:2.0
PRODID:-//eventon.com NONSGML v1.0//EN
CALSCALE:GREGORIAN
METHOD:PUBLISH
BEGIN:VEVENT
UID:69eb5fe62f255
DTSTAMP:20260424T121950Z
DTSTART:20181210T180000Z
DTEND:20181210T193000Z
LOCATION:
SUMMARY:Csillagkép | Bereczki Zoltán
DESCRIPTION:Bereczki Zoltán önálló estje a Játékszín és a Lepkegyű
 jtő Produkció együttműködésében. A zenés színpadok egyik legnépsz
 erűbb énekes-színésze december 10-én és 11-én várja a közönséget
 . Mindkét estére Palya Beát invitálta vendégségbe. Közreműködnek: 
 Balog László Bubenyák Zoltán Csiszár Ferenc Studniczky László Kiss E
 nikő Tiborcz Zsófia\nhttps://momkult.hu/events/csillagkep-bereczki-zoltan
 /
URL:https://momkult.hu/events/csillagkep-bereczki-zoltan/
END:VEVENT
END:VCALENDAR