BEGIN:VCALENDAR
VERSION:2.0
PRODID:-//eventon.com NONSGML v1.0//EN
CALSCALE:GREGORIAN
METHOD:PUBLISH
BEGIN:VEVENT
UID:69eb28e6ba93d
DTSTAMP:20260424T082510Z
DTSTART:20190106
DTEND:20190107
LOCATION:
SUMMARY:TokiÃ³i pillanatok | ErdÅ‘s Attila fotÃ³kiÃ¡llÃ­tÃ¡sa
DESCRIPTION:ErdÅ‘s Attila tÃ¶bb mint tÃ­z Ã©vig Ã©lt JapÃ¡n fÅ‘vÃ¡rosÃ¡ban\
 ,  amelynek sorÃ¡n alkalma nyÃ­lt mÃ©lyebben betekinteni a japÃ¡n emberek m
 indennapjaiba. FotÃ³ival bepillantÃ¡st enged a fejlett technolÃ³giÃ¡ra Ã©pÃ
 ¼lÅ‘ nagyvÃ¡rosi Ã©letformÃ¡t Ã©s a tradicionÃ¡lis szokÃ¡sokat magÃ¡ba olva
 sztÃ³ metropolisz Ã©letÃ©nek olyan momentumaiba is\,  amelyek egy rÃ¶videbb
  utazÃ¡s sorÃ¡n rejtve maradnak a szigetorszÃ¡gba lÃ¡togatÃ³k elÅ‘tt.\nhttp
 s://momkult.hu/events/tokioi-pillanatok-erdos-attila-fotokiallitasa/
URL:https://momkult.hu/events/tokioi-pillanatok-erdos-attila-fotokiallitasa/
END:VEVENT
END:VCALENDAR