BEGIN:VCALENDAR
VERSION:2.0
PRODID:-//eventon.com NONSGML v1.0//EN
CALSCALE:GREGORIAN
METHOD:PUBLISH
BEGIN:VEVENT
UID:69eb43021aca5
DTSTAMP:20260424T101634Z
DTSTART:20181220T190000Z
DTEND:20181220T203000Z
LOCATION:
SUMMARY:AjÃ¡ndÃ©k 2018 | PÃ¡l DÃ©nes
DESCRIPTION:PÃ¡l DÃ©nes negyedik karÃ¡csonyi koncertjÃ©re kÃ©szÃ¼l idÃ©n. A
 z Ã©nekes az elmÃºlt Ã©vek telthÃ¡zas rendezvÃ©nyei utÃ¡n idÃ©n is kÃ¼lÃ¶nl
 eges hangzÃ¡ssal Ã©s lÃ¡tvÃ¡nyvilÃ¡ggal\,  valamint meglepetÃ©sekkel kÃ©szÃ
 ¼l.\nhttps://momkult.hu/events/ajandek-2018-pal-denes/
URL:https://momkult.hu/events/ajandek-2018-pal-denes/
END:VEVENT
END:VCALENDAR