BEGIN:VCALENDAR
VERSION:2.0
PRODID:-//eventon.com NONSGML v1.0//EN
CALSCALE:GREGORIAN
METHOD:PUBLISH
BEGIN:VEVENT
UID:69e873e9c567b
DTSTAMP:20260422T070825Z
DTSTART:20260509T180000Z
DTEND:20260509T194000Z
LOCATION:
SUMMARY:Anime Piano Quest
DESCRIPTION:Kedves Nézőink\,  a koncert technikai okokból elmarad. A jeg
 yeket online vagy a vásárlás helyszínén visszaváltjuk. A kellemetlens
 égért elnézést kérünk! A Szervezők _________________________________
 __________________ Az Anime Piano Quest különleges zenei utazásra hívja
  a közönséget a japán animáció emblematikus sorozatainak és filmjein
 ek világába. Az ismert dallamok zongorára átírva szólalnak meg\,  új
  árnyalatokat és[..]\nhttps://momkult.hu/events/anime-piano-quest/
URL:https://momkult.hu/events/anime-piano-quest/
END:VEVENT
END:VCALENDAR