BEGIN:VCALENDAR
VERSION:2.0
PRODID:-//eventon.com NONSGML v1.0//EN
CALSCALE:GREGORIAN
METHOD:PUBLISH
BEGIN:VEVENT
UID:69eb88c05e628
DTSTAMP:20260424T151408Z
DTSTART:20181102T140000Z
DTEND:20181102T160000Z
LOCATION:
SUMMARY:NyugdÃ­jas Klub
DESCRIPTION:A kÃ©thetente jelentkezÅ‘ program tartalmas kikapcsolÃ³dÃ¡st kÃ
 ­nÃ¡l a HegyvidÃ©ken Ã©lÅ‘ nyugdÃ­jasok szÃ¡mÃ¡ra.\nhttps://momkult.hu/even
 ts/nyugdijas-klub-4/
URL:https://momkult.hu/events/nyugdijas-klub-4/
END:VEVENT
END:VCALENDAR